BEGIN:VCALENDAR
VERSION:2.0
PRODID:-//Ecole Wuxing - ECPv6.15.20//NONSGML v1.0//EN
CALSCALE:GREGORIAN
METHOD:PUBLISH
X-WR-CALNAME:Ecole Wuxing
X-ORIGINAL-URL:https://ecolewuxing.com
X-WR-CALDESC:Évènements pour Ecole Wuxing
REFRESH-INTERVAL;VALUE=DURATION:PT1H
X-Robots-Tag:noindex
X-PUBLISHED-TTL:PT1H
BEGIN:VTIMEZONE
TZID:Europe/Paris
BEGIN:DAYLIGHT
TZOFFSETFROM:+0100
TZOFFSETTO:+0200
TZNAME:CEST
DTSTART:20250330T010000
END:DAYLIGHT
BEGIN:STANDARD
TZOFFSETFROM:+0200
TZOFFSETTO:+0100
TZNAME:CET
DTSTART:20251026T010000
END:STANDARD
BEGIN:DAYLIGHT
TZOFFSETFROM:+0100
TZOFFSETTO:+0200
TZNAME:CEST
DTSTART:20260329T010000
END:DAYLIGHT
BEGIN:STANDARD
TZOFFSETFROM:+0200
TZOFFSETTO:+0100
TZNAME:CET
DTSTART:20261025T010000
END:STANDARD
BEGIN:DAYLIGHT
TZOFFSETFROM:+0100
TZOFFSETTO:+0200
TZNAME:CEST
DTSTART:20270328T010000
END:DAYLIGHT
BEGIN:STANDARD
TZOFFSETFROM:+0200
TZOFFSETTO:+0100
TZNAME:CET
DTSTART:20271031T010000
END:STANDARD
END:VTIMEZONE
BEGIN:VEVENT
DTSTART;TZID=Europe/Paris:20260302T163000
DTEND;TZID=Europe/Paris:20260312T213000
DTSTAMP:20260419T211826
CREATED:20251108T211037Z
LAST-MODIFIED:20251108T211037Z
UID:8499-1772469000-1773351000@ecolewuxing.com
SUMMARY:Shooting photos 2026
DESCRIPTION:Photos des élèves volontaires prises pendant les cours
URL:https://ecolewuxing.com/evenement/shooting-photos-2026/
CATEGORIES:Animation,Bousse,Vigy
END:VEVENT
BEGIN:VEVENT
DTSTART;TZID=Europe/Paris:20260322T090000
DTEND;TZID=Europe/Paris:20260322T170000
DTSTAMP:20260419T211826
CREATED:20251108T211540Z
LAST-MODIFIED:20251108T211540Z
UID:8501-1774170000-1774198800@ecolewuxing.com
SUMMARY:Challenge sportif Wuxing 2026
DESCRIPTION:
URL:https://ecolewuxing.com/evenement/challenge-sportif-wuxing-2026/
LOCATION:Salle polyvalente Georges Brassens\, Rue de Metz\, Bousse\, 57310\, France
CATEGORIES:Animation,Bousse,Compétition,Vigy
END:VEVENT
END:VCALENDAR