BEGIN:VCALENDAR
VERSION:2.0
PRODID:-//Ecole Wuxing - ECPv6.15.20//NONSGML v1.0//EN
CALSCALE:GREGORIAN
METHOD:PUBLISH
X-WR-CALNAME:Ecole Wuxing
X-ORIGINAL-URL:https://ecolewuxing.com
X-WR-CALDESC:Évènements pour Ecole Wuxing
REFRESH-INTERVAL;VALUE=DURATION:PT1H
X-Robots-Tag:noindex
X-PUBLISHED-TTL:PT1H
BEGIN:VTIMEZONE
TZID:Europe/Paris
BEGIN:DAYLIGHT
TZOFFSETFROM:+0100
TZOFFSETTO:+0200
TZNAME:CEST
DTSTART:20240331T010000
END:DAYLIGHT
BEGIN:STANDARD
TZOFFSETFROM:+0200
TZOFFSETTO:+0100
TZNAME:CET
DTSTART:20241027T010000
END:STANDARD
BEGIN:DAYLIGHT
TZOFFSETFROM:+0100
TZOFFSETTO:+0200
TZNAME:CEST
DTSTART:20250330T010000
END:DAYLIGHT
BEGIN:STANDARD
TZOFFSETFROM:+0200
TZOFFSETTO:+0100
TZNAME:CET
DTSTART:20251026T010000
END:STANDARD
BEGIN:DAYLIGHT
TZOFFSETFROM:+0100
TZOFFSETTO:+0200
TZNAME:CEST
DTSTART:20260329T010000
END:DAYLIGHT
BEGIN:STANDARD
TZOFFSETFROM:+0200
TZOFFSETTO:+0100
TZNAME:CET
DTSTART:20261025T010000
END:STANDARD
END:VTIMEZONE
BEGIN:VEVENT
DTSTART;TZID=Europe/Paris:20250828T180000
DTEND;TZID=Europe/Paris:20250828T210000
DTSTAMP:20260423T175034
CREATED:20250827T204026Z
LAST-MODIFIED:20250827T204026Z
UID:8402-1756404000-1756414800@ecolewuxing.com
SUMMARY:Inauguration de la Serpentine à Metz
DESCRIPTION:Nous aurons l’immense plaisir de participer à l’inauguration de la Serpentine\, la nouvelle rue Serpenoise de Metz  \nNotre dragon a été sollicité pour une prestation et un défilé (passage vers 19h)  \nD’autres animations (échassiers\, jongleurs\, cracheurs de feu\, sculpteurs de ballons\, groupes de musique\, danseurs\, déambulation du Graouilly) et des surprises sont prévues\, la soirée s’annonce festive\, venez nombreux 
URL:https://ecolewuxing.com/evenement/inauguration-de-la-serpentine-a-metz/
LOCATION:Rue Serpenoise\, METZ\, rue Serpenoise\, Metz\, 57000\, France
CATEGORIES:Démonstration
ATTACH;FMTTYPE=image/jpeg:https://ecolewuxing.com/wp-content/uploads/2025/08/inquguration-serpentine-rue-serpenoise-metz-ecole-wuxing-danse-dragon.jpg
END:VEVENT
END:VCALENDAR