BEGIN:VCALENDAR
VERSION:2.0
PRODID:-//Ecole Wuxing - ECPv6.15.20//NONSGML v1.0//EN
CALSCALE:GREGORIAN
METHOD:PUBLISH
X-WR-CALNAME:Ecole Wuxing
X-ORIGINAL-URL:https://ecolewuxing.com
X-WR-CALDESC:Évènements pour Ecole Wuxing
REFRESH-INTERVAL;VALUE=DURATION:PT1H
X-Robots-Tag:noindex
X-PUBLISHED-TTL:PT1H
BEGIN:VTIMEZONE
TZID:Europe/Paris
BEGIN:DAYLIGHT
TZOFFSETFROM:+0100
TZOFFSETTO:+0200
TZNAME:CEST
DTSTART:20240331T010000
END:DAYLIGHT
BEGIN:STANDARD
TZOFFSETFROM:+0200
TZOFFSETTO:+0100
TZNAME:CET
DTSTART:20241027T010000
END:STANDARD
BEGIN:DAYLIGHT
TZOFFSETFROM:+0100
TZOFFSETTO:+0200
TZNAME:CEST
DTSTART:20250330T010000
END:DAYLIGHT
BEGIN:STANDARD
TZOFFSETFROM:+0200
TZOFFSETTO:+0100
TZNAME:CET
DTSTART:20251026T010000
END:STANDARD
BEGIN:DAYLIGHT
TZOFFSETFROM:+0100
TZOFFSETTO:+0200
TZNAME:CEST
DTSTART:20260329T010000
END:DAYLIGHT
BEGIN:STANDARD
TZOFFSETFROM:+0200
TZOFFSETTO:+0100
TZNAME:CET
DTSTART:20261025T010000
END:STANDARD
END:VTIMEZONE
BEGIN:VEVENT
DTSTART;TZID=Europe/Paris:20250611T090000
DTEND;TZID=Europe/Paris:20250618T213000
DTSTAMP:20260423T203543
CREATED:20241213T131531Z
LAST-MODIFIED:20250528T212046Z
UID:8041-1749632400-1750282200@ecolewuxing.com
SUMMARY:Passages de grades 2025
DESCRIPTION:
URL:https://ecolewuxing.com/evenement/passages-de-grades-2025/
CATEGORIES:Bousse,Vigy
END:VEVENT
BEGIN:VEVENT
DTSTART;VALUE=DATE:20250620
DTEND;VALUE=DATE:20250621
DTSTAMP:20260423T203543
CREATED:20241213T131644Z
LAST-MODIFIED:20250504T180538Z
UID:8043-1750377600-1750463999@ecolewuxing.com
SUMMARY:Fête de la musique 2025
DESCRIPTION:
URL:https://ecolewuxing.com/evenement/fete-de-la-musique-2025/
LOCATION:Hôtel de ville Bousse\, 1 rue de l'Eglise\, Bousse\, 57310\, France
CATEGORIES:Animation,Bousse
END:VEVENT
BEGIN:VEVENT
DTSTART;TZID=Europe/Paris:20250623T160000
DTEND;TZID=Europe/Paris:20250626T213000
DTSTAMP:20260423T203543
CREATED:20241213T132020Z
LAST-MODIFIED:20241213T132020Z
UID:8045-1750694400-1750973400@ecolewuxing.com
SUMMARY:Portes ouvertes 2025
DESCRIPTION:
URL:https://ecolewuxing.com/evenement/portes-ouvertes-2025/
CATEGORIES:Bousse,Vigy
END:VEVENT
BEGIN:VEVENT
DTSTART;TZID=Europe/Paris:20250628T100000
DTEND;TZID=Europe/Paris:20250628T120000
DTSTAMP:20260423T203543
CREATED:20250111T160208Z
LAST-MODIFIED:20250528T211805Z
UID:8070-1751104800-1751112000@ecolewuxing.com
SUMMARY:Remise de grades et photo de groupe Vigy 2025
DESCRIPTION:
URL:https://ecolewuxing.com/evenement/remise-de-grades-et-photo-de-groupe-vigy-2025/
LOCATION:salle des fêtes de Vigy
CATEGORIES:Vigy
END:VEVENT
BEGIN:VEVENT
DTSTART;TZID=Europe/Paris:20250629T093000
DTEND;TZID=Europe/Paris:20250629T120000
DTSTAMP:20260423T203543
CREATED:20241213T132250Z
LAST-MODIFIED:20250528T211930Z
UID:8047-1751189400-1751198400@ecolewuxing.com
SUMMARY:Remise de grades et photo de groupe Bousse 2025
DESCRIPTION:
URL:https://ecolewuxing.com/evenement/remise-de-grades-et-photo-de-groupe-bousse-2025/
LOCATION:Dojo Bousse\, 19 rue de Metz\, Bousse\, 57310\, France
CATEGORIES:Bousse
END:VEVENT
END:VCALENDAR