BEGIN:VCALENDAR
VERSION:2.0
PRODID:-//Ecole Wuxing - ECPv6.15.20//NONSGML v1.0//EN
CALSCALE:GREGORIAN
METHOD:PUBLISH
X-WR-CALNAME:Ecole Wuxing
X-ORIGINAL-URL:https://ecolewuxing.com
X-WR-CALDESC:Évènements pour Ecole Wuxing
REFRESH-INTERVAL;VALUE=DURATION:PT1H
X-Robots-Tag:noindex
X-PUBLISHED-TTL:PT1H
BEGIN:VTIMEZONE
TZID:Europe/Paris
BEGIN:DAYLIGHT
TZOFFSETFROM:+0100
TZOFFSETTO:+0200
TZNAME:CEST
DTSTART:20240331T010000
END:DAYLIGHT
BEGIN:STANDARD
TZOFFSETFROM:+0200
TZOFFSETTO:+0100
TZNAME:CET
DTSTART:20241027T010000
END:STANDARD
BEGIN:DAYLIGHT
TZOFFSETFROM:+0100
TZOFFSETTO:+0200
TZNAME:CEST
DTSTART:20250330T010000
END:DAYLIGHT
BEGIN:STANDARD
TZOFFSETFROM:+0200
TZOFFSETTO:+0100
TZNAME:CET
DTSTART:20251026T010000
END:STANDARD
BEGIN:DAYLIGHT
TZOFFSETFROM:+0100
TZOFFSETTO:+0200
TZNAME:CEST
DTSTART:20260329T010000
END:DAYLIGHT
BEGIN:STANDARD
TZOFFSETFROM:+0200
TZOFFSETTO:+0100
TZNAME:CET
DTSTART:20261025T010000
END:STANDARD
END:VTIMEZONE
BEGIN:VEVENT
DTSTART;TZID=Europe/Paris:20250112T090000
DTEND;TZID=Europe/Paris:20250112T120000
DTSTAMP:20260421T094359
CREATED:20241213T130306Z
LAST-MODIFIED:20241213T130306Z
UID:8022-1736672400-1736683200@ecolewuxing.com
SUMMARY:Répétition Nouvel An Chinois 2025 2
DESCRIPTION:
URL:https://ecolewuxing.com/evenement/repetition-nouvel-an-chinois-2025-2/
LOCATION:Dojo Bousse\, 19 rue de Metz\, Bousse\, 57310\, France
CATEGORIES:Entraînement supplémentaire
END:VEVENT
END:VCALENDAR