BEGIN:VCALENDAR
VERSION:2.0
PRODID:-//Ecole Wuxing - ECPv6.15.20//NONSGML v1.0//EN
CALSCALE:GREGORIAN
METHOD:PUBLISH
X-WR-CALNAME:Ecole Wuxing
X-ORIGINAL-URL:https://ecolewuxing.com
X-WR-CALDESC:Évènements pour Ecole Wuxing
REFRESH-INTERVAL;VALUE=DURATION:PT1H
X-Robots-Tag:noindex
X-PUBLISHED-TTL:PT1H
BEGIN:VTIMEZONE
TZID:Europe/Paris
BEGIN:DAYLIGHT
TZOFFSETFROM:+0100
TZOFFSETTO:+0200
TZNAME:CEST
DTSTART:20250330T010000
END:DAYLIGHT
BEGIN:STANDARD
TZOFFSETFROM:+0200
TZOFFSETTO:+0100
TZNAME:CET
DTSTART:20251026T010000
END:STANDARD
BEGIN:DAYLIGHT
TZOFFSETFROM:+0100
TZOFFSETTO:+0200
TZNAME:CEST
DTSTART:20260329T010000
END:DAYLIGHT
BEGIN:STANDARD
TZOFFSETFROM:+0200
TZOFFSETTO:+0100
TZNAME:CET
DTSTART:20261025T010000
END:STANDARD
BEGIN:DAYLIGHT
TZOFFSETFROM:+0100
TZOFFSETTO:+0200
TZNAME:CEST
DTSTART:20270328T010000
END:DAYLIGHT
BEGIN:STANDARD
TZOFFSETFROM:+0200
TZOFFSETTO:+0100
TZNAME:CET
DTSTART:20271031T010000
END:STANDARD
END:VTIMEZONE
BEGIN:VEVENT
DTSTART;VALUE=DATE:20260426
DTEND;VALUE=DATE:20260427
DTSTAMP:20260420T210022
CREATED:20251108T211921Z
LAST-MODIFIED:20251108T211921Z
UID:8505-1777161600-1777247999@ecolewuxing.com
SUMMARY:Team Wuxing Féminines Messine 2026
DESCRIPTION:Une team féminines Wuxing sera formée pour participer à la course la Messine
URL:https://ecolewuxing.com/evenement/team-wuxing-feminines-messine-2026/
CATEGORIES:Bousse,Compétition,Vigy
END:VEVENT
BEGIN:VEVENT
DTSTART;VALUE=DATE:20260509
DTEND;VALUE=DATE:20260511
DTSTAMP:20260420T210022
CREATED:20251108T212046Z
LAST-MODIFIED:20251108T212200Z
UID:8507-1778284800-1778457599@ecolewuxing.com
SUMMARY:Week-end body 2026
DESCRIPTION:
URL:https://ecolewuxing.com/evenement/week-end-body-2026/
LOCATION:Salle polyvalente Georges Brassens\, Rue de Metz\, Bousse\, 57310\, France
CATEGORIES:Bousse,Séminaire,Stage,Vigy
END:VEVENT
BEGIN:VEVENT
DTSTART;TZID=Europe/Paris:20260615T163000
DTEND;TZID=Europe/Paris:20260618T213000
DTSTAMP:20260420T210022
CREATED:20251108T212326Z
LAST-MODIFIED:20251108T212326Z
UID:8511-1781541000-1781818200@ecolewuxing.com
SUMMARY:Examens de grades 2026
DESCRIPTION:Semaine d’examens de grades pour tous nos cours
URL:https://ecolewuxing.com/evenement/examens-de-grades-2026/
CATEGORIES:Bousse,Examen,Vigy
END:VEVENT
BEGIN:VEVENT
DTSTART;TZID=Europe/Paris:20260622T163000
DTEND;TZID=Europe/Paris:20260625T213000
DTSTAMP:20260420T210022
CREATED:20251108T212444Z
LAST-MODIFIED:20251108T212444Z
UID:8513-1782145800-1782423000@ecolewuxing.com
SUMMARY:Portes ouvertes 2026
DESCRIPTION:Semaine de portes ouvertes pour tous nos cours
URL:https://ecolewuxing.com/evenement/portes-ouvertes-2026/
CATEGORIES:Animation,Bousse,Vigy
END:VEVENT
BEGIN:VEVENT
DTSTART;TZID=Europe/Paris:20260627T100000
DTEND;TZID=Europe/Paris:20260627T170000
DTSTAMP:20260420T210022
CREATED:20251108T212609Z
LAST-MODIFIED:20251108T212609Z
UID:8515-1782554400-1782579600@ecolewuxing.com
SUMMARY:Remise de grades Vigy 2026
DESCRIPTION:Cérémonie de remise de grades et photo de groupe
URL:https://ecolewuxing.com/evenement/remise-de-grades-vigy-2026/
LOCATION:salle des fêtes de Vigy
CATEGORIES:Vigy
END:VEVENT
BEGIN:VEVENT
DTSTART;TZID=Europe/Paris:20260628T093000
DTEND;TZID=Europe/Paris:20260628T120000
DTSTAMP:20260420T210022
CREATED:20251108T212704Z
LAST-MODIFIED:20251108T212704Z
UID:8517-1782639000-1782648000@ecolewuxing.com
SUMMARY:Remise de grades Bousse 2026
DESCRIPTION:Cérémonie de remise de grades et photo de groupe
URL:https://ecolewuxing.com/evenement/remise-de-grades-bousse-2026/
LOCATION:Salle polyvalente Georges Brassens\, Rue de Metz\, Bousse\, 57310\, France
CATEGORIES:Bousse
END:VEVENT
BEGIN:VEVENT
DTSTART;TZID=Europe/Paris:20260704T090000
DTEND;TZID=Europe/Paris:20260705T170000
DTSTAMP:20260420T210022
CREATED:20251108T212804Z
LAST-MODIFIED:20251108T212804Z
UID:8519-1783155600-1783270800@ecolewuxing.com
SUMMARY:Summer Camp adultes 2026
DESCRIPTION:
URL:https://ecolewuxing.com/evenement/summer-camp-adultes-2026/
LOCATION:Gymnase Vigy\, 8 avenue Charlemagne\, Vigy\, 57640\, France
CATEGORIES:Bousse,Séminaire,Vigy
END:VEVENT
BEGIN:VEVENT
DTSTART;TZID=Europe/Paris:20260706T090000
DTEND;TZID=Europe/Paris:20260710T170000
DTSTAMP:20260420T210022
CREATED:20251108T212859Z
LAST-MODIFIED:20251108T212859Z
UID:8521-1783328400-1783702800@ecolewuxing.com
SUMMARY:Summer Camp enfants ados 2026
DESCRIPTION:
URL:https://ecolewuxing.com/evenement/summer-camp-enfants-ados-2026/
LOCATION:Gymnase Vigy\, 8 avenue Charlemagne\, Vigy\, 57640\, France
CATEGORIES:Bousse,Séminaire,Vigy
END:VEVENT
END:VCALENDAR