BEGIN:VCALENDAR
VERSION:2.0
PRODID:-//Ecole Wuxing - ECPv6.15.20//NONSGML v1.0//EN
CALSCALE:GREGORIAN
METHOD:PUBLISH
X-ORIGINAL-URL:https://ecolewuxing.com
X-WR-CALDESC:Évènements pour Ecole Wuxing
REFRESH-INTERVAL;VALUE=DURATION:PT1H
X-Robots-Tag:noindex
X-PUBLISHED-TTL:PT1H
BEGIN:VTIMEZONE
TZID:Europe/Paris
BEGIN:DAYLIGHT
TZOFFSETFROM:+0100
TZOFFSETTO:+0200
TZNAME:CEST
DTSTART:20250330T010000
END:DAYLIGHT
BEGIN:STANDARD
TZOFFSETFROM:+0200
TZOFFSETTO:+0100
TZNAME:CET
DTSTART:20251026T010000
END:STANDARD
BEGIN:DAYLIGHT
TZOFFSETFROM:+0100
TZOFFSETTO:+0200
TZNAME:CEST
DTSTART:20260329T010000
END:DAYLIGHT
BEGIN:STANDARD
TZOFFSETFROM:+0200
TZOFFSETTO:+0100
TZNAME:CET
DTSTART:20261025T010000
END:STANDARD
BEGIN:DAYLIGHT
TZOFFSETFROM:+0100
TZOFFSETTO:+0200
TZNAME:CEST
DTSTART:20270328T010000
END:DAYLIGHT
BEGIN:STANDARD
TZOFFSETFROM:+0200
TZOFFSETTO:+0100
TZNAME:CET
DTSTART:20271031T010000
END:STANDARD
END:VTIMEZONE
BEGIN:VEVENT
DTSTART;TZID=Europe/Paris:20260706T090000
DTEND;TZID=Europe/Paris:20260710T170000
DTSTAMP:20260420T012453
CREATED:20251108T212859Z
LAST-MODIFIED:20251108T212859Z
UID:8521-1783328400-1783702800@ecolewuxing.com
SUMMARY:Summer Camp enfants ados 2026
DESCRIPTION:
URL:https://ecolewuxing.com/evenement/summer-camp-enfants-ados-2026/
LOCATION:Gymnase Vigy\, 8 avenue Charlemagne\, Vigy\, 57640\, France
CATEGORIES:Bousse,Séminaire,Vigy
END:VEVENT
END:VCALENDAR