BEGIN:VCALENDAR
VERSION:2.0
PRODID:-//Ecole Wuxing - ECPv6.15.20//NONSGML v1.0//EN
CALSCALE:GREGORIAN
METHOD:PUBLISH
X-WR-CALNAME:Ecole Wuxing
X-ORIGINAL-URL:https://ecolewuxing.com
X-WR-CALDESC:Évènements pour Ecole Wuxing
REFRESH-INTERVAL;VALUE=DURATION:PT1H
X-Robots-Tag:noindex
X-PUBLISHED-TTL:PT1H
BEGIN:VTIMEZONE
TZID:Europe/Paris
BEGIN:DAYLIGHT
TZOFFSETFROM:+0100
TZOFFSETTO:+0200
TZNAME:CEST
DTSTART:20240331T010000
END:DAYLIGHT
BEGIN:STANDARD
TZOFFSETFROM:+0200
TZOFFSETTO:+0100
TZNAME:CET
DTSTART:20241027T010000
END:STANDARD
BEGIN:DAYLIGHT
TZOFFSETFROM:+0100
TZOFFSETTO:+0200
TZNAME:CEST
DTSTART:20250330T010000
END:DAYLIGHT
BEGIN:STANDARD
TZOFFSETFROM:+0200
TZOFFSETTO:+0100
TZNAME:CET
DTSTART:20251026T010000
END:STANDARD
BEGIN:DAYLIGHT
TZOFFSETFROM:+0100
TZOFFSETTO:+0200
TZNAME:CEST
DTSTART:20260329T010000
END:DAYLIGHT
BEGIN:STANDARD
TZOFFSETFROM:+0200
TZOFFSETTO:+0100
TZNAME:CET
DTSTART:20261025T010000
END:STANDARD
END:VTIMEZONE
BEGIN:VEVENT
DTSTART;TZID=Europe/Paris:20251126T090000
DTEND;TZID=Europe/Paris:20251126T120000
DTSTAMP:20260422T040648
CREATED:20251108T204602Z
LAST-MODIFIED:20251123T210641Z
UID:8486-1764147600-1764158400@ecolewuxing.com
SUMMARY:Matinée en famille 2025
DESCRIPTION:Matinée spéciale mercredi prochain\, les enfants des 4 cours viendront accompagnés d’un parent pour une séance spécialement conçue en duo. L’occasion de découvrir le sport de votre enfant de l’intérieur !
URL:https://ecolewuxing.com/evenement/matinee-en-famille-2025/
LOCATION:Dojo Bousse\, 19 rue de Metz\, Bousse\, 57310\, France
CATEGORIES:Animation,Bousse
ATTACH;FMTTYPE=image/jpeg:https://ecolewuxing.com/wp-content/uploads/2025/11/Matinee-en-famille-2025.jpg
END:VEVENT
END:VCALENDAR