BEGIN:VCALENDAR
VERSION:2.0
PRODID:-//Ecole Wuxing - ECPv6.15.20//NONSGML v1.0//EN
CALSCALE:GREGORIAN
METHOD:PUBLISH
X-ORIGINAL-URL:https://ecolewuxing.com
X-WR-CALDESC:Évènements pour Ecole Wuxing
REFRESH-INTERVAL;VALUE=DURATION:PT1H
X-Robots-Tag:noindex
X-PUBLISHED-TTL:PT1H
BEGIN:VTIMEZONE
TZID:Europe/Paris
BEGIN:DAYLIGHT
TZOFFSETFROM:+0100
TZOFFSETTO:+0200
TZNAME:CEST
DTSTART:20240331T010000
END:DAYLIGHT
BEGIN:STANDARD
TZOFFSETFROM:+0200
TZOFFSETTO:+0100
TZNAME:CET
DTSTART:20241027T010000
END:STANDARD
BEGIN:DAYLIGHT
TZOFFSETFROM:+0100
TZOFFSETTO:+0200
TZNAME:CEST
DTSTART:20250330T010000
END:DAYLIGHT
BEGIN:STANDARD
TZOFFSETFROM:+0200
TZOFFSETTO:+0100
TZNAME:CET
DTSTART:20251026T010000
END:STANDARD
BEGIN:DAYLIGHT
TZOFFSETFROM:+0100
TZOFFSETTO:+0200
TZNAME:CEST
DTSTART:20260329T010000
END:DAYLIGHT
BEGIN:STANDARD
TZOFFSETFROM:+0200
TZOFFSETTO:+0100
TZNAME:CET
DTSTART:20261025T010000
END:STANDARD
END:VTIMEZONE
BEGIN:VEVENT
DTSTART;TZID=Europe/Paris:20250908T161500
DTEND;TZID=Europe/Paris:20250911T213000
DTSTAMP:20260423T175224
CREATED:20250819T203525Z
LAST-MODIFIED:20250827T211338Z
UID:8391-1757348100-1757626200@ecolewuxing.com
SUMMARY:Lancement de la saison 2025-2026
DESCRIPTION:Reprise de tous nos cours semaine du 8 septembre aux horaires habituels \nCliquez ici pour voir les horaires : https://ecolewuxing.com/horaires/
URL:https://ecolewuxing.com/evenement/lancement-de-la-saison-2025-2026/
CATEGORIES:Bousse,Vigy
ATTACH;FMTTYPE=image/jpeg:https://ecolewuxing.com/wp-content/uploads/2025/08/rentree-septembre-2025-wushu-boy-wuxing.jpg
END:VEVENT
END:VCALENDAR